Package: scry Version: 1.16.0 Command: /Library/Frameworks/R.framework/Resources/bin/R CMD build --keep-empty-dirs --no-resave-data scry StartedAt: 2024-10-17 08:54:18 -0400 (Thu, 17 Oct 2024) EndedAt: 2024-10-17 08:59:38 -0400 (Thu, 17 Oct 2024) EllapsedTime: 319.9 seconds RetCode: 0 Status: OK PackageFile: scry_1.16.0.tar.gz PackageFileSize: 4.522 MiB