Package: scruff Version: 1.22.0 Command: E:\biocbuild\bbs-3.19-bioc\R\bin\R.exe CMD INSTALL scruff StartedAt: 2024-10-16 16:49:13 -0400 (Wed, 16 Oct 2024) EndedAt: 2024-10-16 16:50:25 -0400 (Wed, 16 Oct 2024) EllapsedTime: 71.9 seconds RetCode: 0 Status: OK