Package: scruff Version: 1.22.0 Command: chmod a+r scruff -R && F:\biocbuild\bbs-3.19-bioc\R\bin\R.exe CMD build --keep-empty-dirs --no-resave-data scruff StartedAt: 2024-06-26 21:50:07 -0400 (Wed, 26 Jun 2024) EndedAt: 2024-06-26 21:53:02 -0400 (Wed, 26 Jun 2024) EllapsedTime: 175.6 seconds RetCode: 0 Status: OK PackageFile: scruff_1.22.0.tar.gz PackageFileSize: 1.082 MiB