Package: scruff Version: 1.22.0 Command: rm -rf scruff.buildbin-libdir && mkdir scruff.buildbin-libdir && /Users/biocbuild/BBS/utils/build-universal.sh scruff_1.22.0.tar.gz /Library/Frameworks/R.framework/Resources/bin/R scruff.buildbin-libdir StartedAt: 2024-10-17 17:09:27 -0400 (Thu, 17 Oct 2024) EndedAt: 2024-10-17 17:11:45 -0400 (Thu, 17 Oct 2024) EllapsedTime: 137.5 seconds RetCode: 0 Status: OK PackageFile: scruff_1.22.0.tgz PackageFileSize: 3.586 MiB