Package: scruff Version: 1.22.0 Command: /Library/Frameworks/R.framework/Resources/bin/R CMD build --keep-empty-dirs --no-resave-data scruff StartedAt: 2024-06-09 18:07:11 -0400 (Sun, 09 Jun 2024) EndedAt: 2024-06-09 18:09:50 -0400 (Sun, 09 Jun 2024) EllapsedTime: 159.4 seconds RetCode: 0 Status: OK PackageFile: scruff_1.22.0.tar.gz PackageFileSize: 1.712 MiB