Package: scruff Version: 1.22.0 Command: rm -rf scruff.buildbin-libdir && mkdir scruff.buildbin-libdir && /Users/biocbuild/BBS/utils/build-universal.sh scruff_1.22.0.tar.gz /Library/Frameworks/R.framework/Resources/bin/R scruff.buildbin-libdir StartedAt: 2024-06-10 00:39:00 -0400 (Mon, 10 Jun 2024) EndedAt: 2024-06-10 00:40:22 -0400 (Mon, 10 Jun 2024) EllapsedTime: 82.5 seconds RetCode: 0 Status: OK PackageFile: scruff_1.22.0.tgz PackageFileSize: 3.588 MiB