Package: scruff Version: 1.22.0 Command: /home/biocbuild/R/R-beta-2024-04-15_r86425/bin/R CMD INSTALL scruff StartedAt: 2024-05-08 20:41:08 -0000 (Wed, 08 May 2024) EndedAt: 2024-05-08 20:42:27 -0000 (Wed, 08 May 2024) EllapsedTime: 79.0 seconds RetCode: 0 Status: OK