Package: scruff Version: 1.22.0 Command: /home/biocbuild/R/R-beta-2024-04-15_r86425/bin/R CMD build --keep-empty-dirs --no-resave-data scruff StartedAt: 2024-05-09 03:29:28 -0000 (Thu, 09 May 2024) EndedAt: 2024-05-09 03:32:04 -0000 (Thu, 09 May 2024) EllapsedTime: 156.2 seconds RetCode: 0 Status: OK PackageFile: scruff_1.22.0.tar.gz PackageFileSize: 1.223 MiB