Package: scruff Version: 1.22.0 Command: /Library/Frameworks/R.framework/Resources/bin/R CMD INSTALL scruff StartedAt: 2024-10-16 17:31:20 -0400 (Wed, 16 Oct 2024) EndedAt: 2024-10-16 17:32:39 -0400 (Wed, 16 Oct 2024) EllapsedTime: 78.5 seconds RetCode: 0 Status: OK