Package: scruff Version: 1.22.0 Command: /Library/Frameworks/R.framework/Resources/bin/R CMD build --keep-empty-dirs --no-resave-data scruff StartedAt: 2024-10-17 08:53:40 -0400 (Thu, 17 Oct 2024) EndedAt: 2024-10-17 08:56:28 -0400 (Thu, 17 Oct 2024) EllapsedTime: 168.6 seconds RetCode: 0 Status: OK PackageFile: scruff_1.22.0.tar.gz PackageFileSize: 1.713 MiB