Package: screenCounter Version: 1.4.0 Command: E:\biocbuild\bbs-3.19-bioc\R\bin\R.exe CMD check --no-multiarch --install=check:screenCounter.install-out.txt --library=E:\biocbuild\bbs-3.19-bioc\R\library --no-vignettes --timings screenCounter_1.4.0.tar.gz StartedAt: 2024-10-17 05:34:45 -0400 (Thu, 17 Oct 2024) EndedAt: 2024-10-17 05:38:01 -0400 (Thu, 17 Oct 2024) EllapsedTime: 196.2 seconds RetCode: 0 Status: OK CheckDir: screenCounter.Rcheck Warnings: 0