Package: screenCounter Version: 1.4.0 Command: rm -rf screenCounter.buildbin-libdir && mkdir screenCounter.buildbin-libdir && E:\biocbuild\bbs-3.19-bioc\R\bin\R.exe CMD INSTALL --build --library=screenCounter.buildbin-libdir screenCounter_1.4.0.tar.gz StartedAt: 2024-10-17 08:36:22 -0400 (Thu, 17 Oct 2024) EndedAt: 2024-10-17 08:38:19 -0400 (Thu, 17 Oct 2024) EllapsedTime: 117.8 seconds RetCode: 0 Status: OK PackageFile: screenCounter_1.4.0.zip PackageFileSize: 867.3 KiB