Package: screenCounter Version: 1.4.0 Command: chmod a+r screenCounter -R && F:\biocbuild\bbs-3.19-bioc\R\bin\R.exe CMD build --keep-empty-dirs --no-resave-data screenCounter StartedAt: 2024-06-26 21:48:10 -0400 (Wed, 26 Jun 2024) EndedAt: 2024-06-26 21:50:24 -0400 (Wed, 26 Jun 2024) EllapsedTime: 134.4 seconds RetCode: 0 Status: OK PackageFile: screenCounter_1.4.0.tar.gz PackageFileSize: 293.2 KiB