Package: screenCounter Version: 1.4.0 Command: rm -rf screenCounter.buildbin-libdir && mkdir screenCounter.buildbin-libdir && /Users/biocbuild/BBS/utils/build-universal.sh screenCounter_1.4.0.tar.gz /Library/Frameworks/R.framework/Resources/bin/R screenCounter.buildbin-libdir StartedAt: 2024-06-10 00:38:53 -0400 (Mon, 10 Jun 2024) EndedAt: 2024-06-10 00:40:46 -0400 (Mon, 10 Jun 2024) EllapsedTime: 113.4 seconds RetCode: 0 Status: OK PackageFile: screenCounter_1.4.0.tgz PackageFileSize: 538.9 KiB