Package: screenCounter Version: 1.4.0 Command: /home/biocbuild/R/R-beta-2024-04-15_r86425/bin/R CMD build --keep-empty-dirs --no-resave-data screenCounter StartedAt: 2024-05-09 03:27:38 -0000 (Thu, 09 May 2024) EndedAt: 2024-05-09 03:30:39 -0000 (Thu, 09 May 2024) EllapsedTime: 181.2 seconds RetCode: 0 Status: OK PackageFile: screenCounter_1.4.0.tar.gz PackageFileSize: 319.1 KiB