Package: screenCounter Version: 1.4.0 Command: /Library/Frameworks/R.framework/Resources/bin/R CMD INSTALL screenCounter StartedAt: 2024-06-09 15:42:36 -0400 (Sun, 09 Jun 2024) EndedAt: 2024-06-09 15:44:28 -0400 (Sun, 09 Jun 2024) EllapsedTime: 111.4 seconds RetCode: 0 Status: OK