Package: screenCounter Version: 1.4.0 Command: /Library/Frameworks/R.framework/Resources/bin/R CMD check --install=check:screenCounter.install-out.txt --library=/Library/Frameworks/R.framework/Resources/library --no-vignettes --timings screenCounter_1.4.0.tar.gz StartedAt: 2024-06-11 04:55:08 -0400 (Tue, 11 Jun 2024) EndedAt: 2024-06-11 05:00:01 -0400 (Tue, 11 Jun 2024) EllapsedTime: 293.0 seconds RetCode: 0 Status: OK CheckDir: screenCounter.Rcheck Warnings: 0