Package: screenCounter Version: 1.4.0 Command: /Library/Frameworks/R.framework/Resources/bin/R CMD INSTALL screenCounter StartedAt: 2024-10-16 16:31:53 -0400 (Wed, 16 Oct 2024) EndedAt: 2024-10-16 16:33:16 -0400 (Wed, 16 Oct 2024) EllapsedTime: 82.9 seconds RetCode: 0 Status: OK