Package: screenCounter Version: 1.4.0 Command: /Library/Frameworks/R.framework/Resources/bin/R CMD check --install=check:screenCounter.install-out.txt --library=/Library/Frameworks/R.framework/Resources/library --no-vignettes --timings screenCounter_1.4.0.tar.gz StartedAt: 2024-10-18 11:40:07 -0400 (Fri, 18 Oct 2024) EndedAt: 2024-10-18 11:43:34 -0400 (Fri, 18 Oct 2024) EllapsedTime: 207.1 seconds RetCode: 0 Status: OK CheckDir: screenCounter.Rcheck Warnings: 0