Package: scran Version: 1.32.0 Command: rm -rf scran.buildbin-libdir && mkdir scran.buildbin-libdir && E:\biocbuild\bbs-3.19-bioc\R\bin\R.exe CMD INSTALL --build --library=scran.buildbin-libdir scran_1.32.0.tar.gz StartedAt: 2024-10-17 08:36:13 -0400 (Thu, 17 Oct 2024) EndedAt: 2024-10-17 08:38:10 -0400 (Thu, 17 Oct 2024) EllapsedTime: 116.3 seconds RetCode: 0 Status: OK PackageFile: scran_1.32.0.zip PackageFileSize: 1.777 MiB