Package: scran Version: 1.32.0 Command: chmod a+r scran -R && F:\biocbuild\bbs-3.19-bioc\R\bin\R.exe CMD build --keep-empty-dirs --no-resave-data scran StartedAt: 2024-06-26 21:47:36 -0400 (Wed, 26 Jun 2024) EndedAt: 2024-06-26 21:52:11 -0400 (Wed, 26 Jun 2024) EllapsedTime: 274.2 seconds RetCode: 0 Status: OK PackageFile: scran_1.32.0.tar.gz PackageFileSize: 1.009 MiB