Package: scran Version: 1.32.0 Command: rm -rf scran.buildbin-libdir && mkdir scran.buildbin-libdir && /Users/biocbuild/BBS/utils/build-universal.sh scran_1.32.0.tar.gz /Library/Frameworks/R.framework/Resources/bin/R scran.buildbin-libdir StartedAt: 2024-10-17 17:08:53 -0400 (Thu, 17 Oct 2024) EndedAt: 2024-10-17 17:11:50 -0400 (Thu, 17 Oct 2024) EllapsedTime: 176.9 seconds RetCode: 0 Status: OK PackageFile: scran_1.32.0.tgz PackageFileSize: 2.307 MiB