Package: scran Version: 1.32.0 Command: /Library/Frameworks/R.framework/Resources/bin/R CMD build --keep-empty-dirs --no-resave-data scran StartedAt: 2024-06-09 18:06:32 -0400 (Sun, 09 Jun 2024) EndedAt: 2024-06-09 18:10:43 -0400 (Sun, 09 Jun 2024) EllapsedTime: 251.8 seconds RetCode: 0 Status: OK PackageFile: scran_1.32.0.tar.gz PackageFileSize: 1.847 MiB