Package: scp Version: 1.14.0 Command: rm -rf scp.buildbin-libdir && mkdir scp.buildbin-libdir && E:\biocbuild\bbs-3.19-bioc\R\bin\R.exe CMD INSTALL --build --library=scp.buildbin-libdir scp_1.14.0.tar.gz StartedAt: 2024-10-17 08:35:59 -0400 (Thu, 17 Oct 2024) EndedAt: 2024-10-17 08:36:52 -0400 (Thu, 17 Oct 2024) EllapsedTime: 53.7 seconds RetCode: 0 Status: OK PackageFile: scp_1.14.0.zip PackageFileSize: 4.974 MiB