Package: scp Version: 1.14.0 Command: /Library/Frameworks/R.framework/Resources/bin/R CMD build --keep-empty-dirs --no-resave-data scp StartedAt: 2024-10-16 23:04:52 -0400 (Wed, 16 Oct 2024) EndedAt: 2024-10-16 23:17:48 -0400 (Wed, 16 Oct 2024) EllapsedTime: 776.4 seconds RetCode: 0 Status: OK PackageFile: scp_1.14.0.tar.gz PackageFileSize: 8.794 MiB