Package: scp Version: 1.14.0 Command: /home/biocbuild/R/R-beta-2024-04-15_r86425/bin/R CMD INSTALL scp StartedAt: 2024-05-08 20:38:34 -0000 (Wed, 08 May 2024) EndedAt: 2024-05-08 20:38:35 -0000 (Wed, 08 May 2024) EllapsedTime: 0.5 seconds RetCode: 1 Status: ERROR