Package: scp Version: 1.14.0 Command: /Library/Frameworks/R.framework/Resources/bin/R CMD check --install=check:scp.install-out.txt --library=/Library/Frameworks/R.framework/Resources/library --no-vignettes --timings scp_1.14.0.tar.gz StartedAt: 2024-10-18 11:32:06 -0400 (Fri, 18 Oct 2024) EndedAt: 2024-10-18 11:40:36 -0400 (Fri, 18 Oct 2024) EllapsedTime: 510.1 seconds RetCode: 1 Status: ERROR CheckDir: scp.Rcheck Warnings: NA