Package: scp Version: 1.14.0 Command: rm -rf scp.buildbin-libdir && mkdir scp.buildbin-libdir && /Users/biocbuild/BBS/utils/build-universal.sh scp_1.14.0.tar.gz /Library/Frameworks/R.framework/Resources/bin/R scp.buildbin-libdir StartedAt: 2024-10-15 20:11:43 -0400 (Tue, 15 Oct 2024) EndedAt: 2024-10-15 20:12:29 -0400 (Tue, 15 Oct 2024) EllapsedTime: 45.4 seconds RetCode: 0 Status: OK PackageFile: scp_1.14.0.tgz PackageFileSize: 7.091 MiB