Package: scmeth Version: 1.24.0 Command: E:\biocbuild\bbs-3.19-bioc\R\bin\R.exe CMD INSTALL scmeth StartedAt: 2024-10-16 16:38:31 -0400 (Wed, 16 Oct 2024) EndedAt: 2024-10-16 16:39:23 -0400 (Wed, 16 Oct 2024) EllapsedTime: 52.1 seconds RetCode: 0 Status: OK