Package: scmeth Version: 1.24.0 Command: /home/biocbuild/bbs-3.19-bioc/R/bin/R CMD INSTALL scmeth StartedAt: 2024-10-16 16:17:21 -0400 (Wed, 16 Oct 2024) EndedAt: 2024-10-16 16:18:04 -0400 (Wed, 16 Oct 2024) EllapsedTime: 42.4 seconds RetCode: 0 Status: OK