Package: scmeth Version: 1.24.0 Command: rm -rf scmeth.buildbin-libdir && mkdir scmeth.buildbin-libdir && /Users/biocbuild/BBS/utils/build-universal.sh scmeth_1.24.0.tar.gz /Library/Frameworks/R.framework/Resources/bin/R scmeth.buildbin-libdir StartedAt: 2024-10-17 17:08:03 -0400 (Thu, 17 Oct 2024) EndedAt: 2024-10-17 17:09:50 -0400 (Thu, 17 Oct 2024) EllapsedTime: 106.8 seconds RetCode: 0 Status: OK PackageFile: scmeth_1.24.0.tgz PackageFileSize: 824.1 KiB