Package: scmeth Version: 1.24.0 Command: /Library/Frameworks/R.framework/Resources/bin/R CMD build --keep-empty-dirs --no-resave-data scmeth StartedAt: 2024-10-17 08:40:23 -0400 (Thu, 17 Oct 2024) EndedAt: 2024-10-17 08:42:18 -0400 (Thu, 17 Oct 2024) EllapsedTime: 114.3 seconds RetCode: 0 Status: OK PackageFile: scmeth_1.24.0.tar.gz PackageFileSize: 776.5 KiB