Package: scmap Version: 1.26.0 Command: /home/biocbuild/bbs-3.19-bioc/R/bin/R CMD INSTALL scmap StartedAt: 2024-10-16 15:57:43 -0400 (Wed, 16 Oct 2024) EndedAt: 2024-10-16 15:58:20 -0400 (Wed, 16 Oct 2024) EllapsedTime: 36.7 seconds RetCode: 0 Status: OK