Package: scmap Version: 1.26.0 Command: /home/biocbuild/bbs-3.19-bioc/R/bin/R CMD check --install=check:scmap.install-out.txt --library=/home/biocbuild/bbs-3.19-bioc/R/site-library --timings scmap_1.26.0.tar.gz StartedAt: 2024-10-17 04:50:47 -0400 (Thu, 17 Oct 2024) EndedAt: 2024-10-17 04:53:48 -0400 (Thu, 17 Oct 2024) EllapsedTime: 181.3 seconds RetCode: 0 Status: OK CheckDir: scmap.Rcheck Warnings: 0