Package: scmap Version: 1.26.0 Command: /Library/Frameworks/R.framework/Resources/bin/R CMD check --install=check:scmap.install-out.txt --library=/Library/Frameworks/R.framework/Resources/library --no-vignettes --timings scmap_1.26.0.tar.gz StartedAt: 2024-10-17 12:41:24 -0400 (Thu, 17 Oct 2024) EndedAt: 2024-10-17 12:48:44 -0400 (Thu, 17 Oct 2024) EllapsedTime: 440.1 seconds RetCode: 0 Status: OK CheckDir: scmap.Rcheck Warnings: 0