Package: scmap Version: 1.26.0 Command: /Library/Frameworks/R.framework/Resources/bin/R CMD build --keep-empty-dirs --no-resave-data scmap StartedAt: 2024-10-16 23:00:43 -0400 (Wed, 16 Oct 2024) EndedAt: 2024-10-16 23:04:00 -0400 (Wed, 16 Oct 2024) EllapsedTime: 196.7 seconds RetCode: 0 Status: OK PackageFile: scmap_1.26.0.tar.gz PackageFileSize: 2.252 MiB