Package: scmap Version: 1.26.0 Command: /Library/Frameworks/R.framework/Resources/bin/R CMD build --keep-empty-dirs --no-resave-data scmap StartedAt: 2024-06-10 04:18:58 -0400 (Mon, 10 Jun 2024) EndedAt: 2024-06-10 04:20:28 -0400 (Mon, 10 Jun 2024) EllapsedTime: 90.8 seconds RetCode: 0 Status: OK PackageFile: scmap_1.26.0.tar.gz PackageFileSize: 2.252 MiB