Package: scmap Version: 1.26.0 Command: rm -rf scmap.buildbin-libdir && mkdir scmap.buildbin-libdir && /Users/biocbuild/BBS/utils/build-universal.sh scmap_1.26.0.tar.gz /Library/Frameworks/R.framework/Resources/bin/R scmap.buildbin-libdir StartedAt: 2024-10-15 20:10:09 -0400 (Tue, 15 Oct 2024) EndedAt: 2024-10-15 20:11:03 -0400 (Tue, 15 Oct 2024) EllapsedTime: 54.4 seconds RetCode: 0 Status: OK PackageFile: scmap_1.26.0.tgz PackageFileSize: 3.401 MiB