Package: scider Version: 1.2.0 Command: E:\biocbuild\bbs-3.19-bioc\R\bin\R.exe CMD check --no-multiarch --install=check:scider.install-out.txt --library=E:\biocbuild\bbs-3.19-bioc\R\library --no-vignettes --timings scider_1.2.0.tar.gz StartedAt: 2024-10-17 05:29:21 -0400 (Thu, 17 Oct 2024) EndedAt: 2024-10-17 05:36:56 -0400 (Thu, 17 Oct 2024) EllapsedTime: 455.4 seconds RetCode: 0 Status: OK CheckDir: scider.Rcheck Warnings: 0