Package: scider Version: 1.2.0 Command: chmod a+r scider -R && E:\biocbuild\bbs-3.19-bioc\R\bin\R.exe CMD build --keep-empty-dirs --no-resave-data scider StartedAt: 2024-10-16 21:46:26 -0400 (Wed, 16 Oct 2024) EndedAt: 2024-10-16 21:48:25 -0400 (Wed, 16 Oct 2024) EllapsedTime: 119.7 seconds RetCode: 0 Status: OK PackageFile: scider_1.2.0.tar.gz PackageFileSize: 1.703 MiB