Package: scider Version: 1.2.0 Command: rm -rf scider.buildbin-libdir && mkdir scider.buildbin-libdir && E:\biocbuild\bbs-3.19-bioc\R\bin\R.exe CMD INSTALL --build --library=scider.buildbin-libdir scider_1.2.0.tar.gz StartedAt: 2024-10-17 08:35:30 -0400 (Thu, 17 Oct 2024) EndedAt: 2024-10-17 08:36:07 -0400 (Thu, 17 Oct 2024) EllapsedTime: 36.9 seconds RetCode: 0 Status: OK PackageFile: scider_1.2.0.zip PackageFileSize: 1.826 MiB