Package: scider Version: 1.2.0 Command: F:\biocbuild\bbs-3.19-bioc\R\bin\R.exe CMD INSTALL scider StartedAt: 2024-06-26 16:46:24 -0400 (Wed, 26 Jun 2024) EndedAt: 2024-06-26 16:47:03 -0400 (Wed, 26 Jun 2024) EllapsedTime: 38.8 seconds RetCode: 0 Status: OK