Package: scider Version: 1.2.0 Command: /Library/Frameworks/R.framework/Resources/bin/R CMD INSTALL scider StartedAt: 2024-10-16 16:40:19 -0400 (Wed, 16 Oct 2024) EndedAt: 2024-10-16 16:41:21 -0400 (Wed, 16 Oct 2024) EllapsedTime: 62.1 seconds RetCode: 0 Status: OK