Package: scider Version: 1.2.0 Command: /Library/Frameworks/R.framework/Resources/bin/R CMD check --install=check:scider.install-out.txt --library=/Library/Frameworks/R.framework/Resources/library --no-vignettes --timings scider_1.2.0.tar.gz StartedAt: 2024-10-17 12:41:16 -0400 (Thu, 17 Oct 2024) EndedAt: 2024-10-17 12:58:53 -0400 (Thu, 17 Oct 2024) EllapsedTime: 1057.4 seconds RetCode: 0 Status: OK CheckDir: scider.Rcheck Warnings: 0