Package: scider Version: 1.2.0 Command: /Library/Frameworks/R.framework/Resources/bin/R CMD build --keep-empty-dirs --no-resave-data scider StartedAt: 2024-10-16 22:59:32 -0400 (Wed, 16 Oct 2024) EndedAt: 2024-10-16 23:03:43 -0400 (Wed, 16 Oct 2024) EllapsedTime: 251.2 seconds RetCode: 0 Status: OK PackageFile: scider_1.2.0.tar.gz PackageFileSize: 2.83 MiB