Package: scider Version: 1.2.0 Command: rm -rf scider.buildbin-libdir && mkdir scider.buildbin-libdir && /Users/biocbuild/BBS/utils/build-universal.sh scider_1.2.0.tar.gz /Library/Frameworks/R.framework/Resources/bin/R scider.buildbin-libdir StartedAt: 2024-10-17 17:07:50 -0400 (Thu, 17 Oct 2024) EndedAt: 2024-10-17 17:09:02 -0400 (Thu, 17 Oct 2024) EllapsedTime: 71.6 seconds RetCode: 0 Status: OK PackageFile: scider_1.2.0.tgz PackageFileSize: 2.953 MiB