Package: scider Version: 1.2.0 Command: /Library/Frameworks/R.framework/Resources/bin/R CMD build --keep-empty-dirs --no-resave-data scider StartedAt: 2024-06-09 18:04:33 -0400 (Sun, 09 Jun 2024) EndedAt: 2024-06-09 18:06:17 -0400 (Sun, 09 Jun 2024) EllapsedTime: 104.3 seconds RetCode: 0 Status: OK PackageFile: scider_1.2.0.tar.gz PackageFileSize: 2.83 MiB