Package: scider Version: 1.2.0 Maintainer: Yunshun Chen MaintainerEmail: yuchen at wehi.edu.au git_url: https://git.bioconductor.org/packages/scider git_branch: RELEASE_3_19 git_last_commit: 93e9e7a git_last_commit_date: 2024-04-30 11:52:34 -0400 (Tue, 30 Apr 2024)