Package: schex Version: 1.18.0 Command: chmod a+r schex -R && E:\biocbuild\bbs-3.19-bioc\R\bin\R.exe CMD build --keep-empty-dirs --no-resave-data schex StartedAt: 2024-10-16 21:45:36 -0400 (Wed, 16 Oct 2024) EndedAt: 2024-10-16 21:48:08 -0400 (Wed, 16 Oct 2024) EllapsedTime: 151.5 seconds RetCode: 0 Status: OK PackageFile: schex_1.18.0.tar.gz PackageFileSize: 2.893 MiB