Package: schex Version: 1.18.0 Maintainer: Saskia Freytag MaintainerEmail: freytag.s at wehi.edu.au git_url: https://git.bioconductor.org/packages/schex git_branch: RELEASE_3_19 git_last_commit: 36b09d3 git_last_commit_date: 2024-04-30 11:18:31 -0400 (Tue, 30 Apr 2024)